BEGIN:VCALENDAR
VERSION:2.0
PRODID:-//FRIENDS OF OLMSTED-BEIL HOUSE - ECPv6.15.20//NONSGML v1.0//EN
CALSCALE:GREGORIAN
METHOD:PUBLISH
X-ORIGINAL-URL:https://olmstedbeilhouse.org
X-WR-CALDESC:Events for FRIENDS OF OLMSTED-BEIL HOUSE
REFRESH-INTERVAL;VALUE=DURATION:PT1H
X-Robots-Tag:noindex
X-PUBLISHED-TTL:PT1H
BEGIN:VTIMEZONE
TZID:America/New_York
BEGIN:DAYLIGHT
TZOFFSETFROM:-0500
TZOFFSETTO:-0400
TZNAME:EDT
DTSTART:20250309T070000
END:DAYLIGHT
BEGIN:STANDARD
TZOFFSETFROM:-0400
TZOFFSETTO:-0500
TZNAME:EST
DTSTART:20251102T060000
END:STANDARD
BEGIN:DAYLIGHT
TZOFFSETFROM:-0500
TZOFFSETTO:-0400
TZNAME:EDT
DTSTART:20260308T070000
END:DAYLIGHT
BEGIN:STANDARD
TZOFFSETFROM:-0400
TZOFFSETTO:-0500
TZNAME:EST
DTSTART:20261101T060000
END:STANDARD
BEGIN:DAYLIGHT
TZOFFSETFROM:-0500
TZOFFSETTO:-0400
TZNAME:EDT
DTSTART:20270314T070000
END:DAYLIGHT
BEGIN:STANDARD
TZOFFSETFROM:-0400
TZOFFSETTO:-0500
TZNAME:EST
DTSTART:20271107T060000
END:STANDARD
END:VTIMEZONE
BEGIN:VEVENT
DTSTART;TZID=America/New_York:20260415T190000
DTEND;TZID=America/New_York:20260415T210000
DTSTAMP:20260419T200919
CREATED:20260308T191358Z
LAST-MODIFIED:20260309T110425Z
UID:10000584-1776279600-1776286800@olmstedbeilhouse.org
SUMMARY:FROM LIGHTHOUSES TO BASEBALL TO FERRIES: AN HISTORIC LOOK AT TOMPKINSVILLE AND SAINT GEORGE
DESCRIPTION:FROM LIGHTHOUSES TO BASEBALL TO FERRIES: AN HISTORIC LOOK AT TOMPKINSVILLE AND SAINT GEORGE\n\n										Image: The Saint George baseball stadium. Home of the first New York Metropolitans\, Saint George\, 1886. Library of Congress.\nDATEWednesday\, April 15\, 2026 at 7 pm \nFLAGSHIP BREWERY40 Minthorne Street\, Staten Island\, NY 10301 \nSPEAKERPatricia M. Salmon\, FOBH Historian and a Curator of History\, retired\, from the Staten Island Museum. \nDESCRIPTIONA historic look at Tompkinsville and Saint George as we discuss architecture\, the local Historic District\, industrial history\, religious groups\, recreational hot spots\, educational establishments\, famous residents\, the Staten Island Ferry\, the Quarantine Station\, and more. Did you know that a person was “canonized” to create the community name of Saint George? Hint: he was connected to the Olmsted-Beil House! \nPARKING & TRANSPORTATIONAmple parking in lot across the street for Flagship and the adjoining businesses. It’s mid-block\, down a ramp (easy to miss). No charge\, self-park. Short .7 mile walk from ferry\, and directly across from Tompkinsville Train Station. \nTHIS IS A FREE EVENTDonations to Friends of Olmsted-Beil House are appreciated.Support FOBH  » \nRegistration required.To register text: 917-608-6437.Please arrive 10 minutes before the start of the program.
URL:https://olmstedbeilhouse.org/event/from-lighthouses-to-baseball-to-ferries-an-historic-look-at-tompkinsville-and-saint-george/
LOCATION:Flagship Brewery\, 40 Minthorne Street\, Staten Island\, 10301\, United States
CATEGORIES:Events
ATTACH;FMTTYPE=image/jpeg:https://olmstedbeilhouse.org/wp-content/uploads/2026/03/St-George-Stadium-Casino-LOC-auto.jpg
END:VEVENT
BEGIN:VEVENT
DTSTART;TZID=America/New_York:20260318T190000
DTEND;TZID=America/New_York:20260318T210000
DTSTAMP:20260419T200919
CREATED:20260125T122518Z
LAST-MODIFIED:20260125T191419Z
UID:10000583-1773860400-1773867600@olmstedbeilhouse.org
SUMMARY:STATEN ISLAND’S ARBOR & ARCHITECTURE
DESCRIPTION:STATEN ISLAND’S ARBOR & ARCHITECTURE\n\n										Olmsted-Beil House\, c. 1950\, Collection of Candace Cullen\nDATEWednesday\, March 18\, 2026 at 7 pm \nFLAGSHIP BREWERY40 Minthorne Street\, Staten Island\, NY 10301 \nSPEAKERJohn P. Kilcullen\, Administrator\, South Shore Parks\, at the NYC Department of Parks & Recreation \nDESCRIPTIONTravel across the borough\, connecting the dots between historic landmarks and the landscapes that shaped them\, from Poillon House to the Seguine Mansion\, Brougham Cottage\, and the Olmsted-Beil House. \nPARKING & TRANSPORTATIONAmple parking in lot across the street for Flagship and the adjoiningbusinesses. It’s mid-block\, down a ramp (easy to miss). No charge\, self-park. Short .7 mile walk from ferry\, and directly across from Tompkinsville Train Station. \nTHIS IS A FREE EVENTDonations to Friends of Olmsted-Beil House are appreciated.Support FOBH  » \nOnline registration required.Please arrive 10 minutes before the start of the program. \n					\n									Register Now
URL:https://olmstedbeilhouse.org/event/staten-islands-arbor-architecture/
LOCATION:Flagship Brewery\, 40 Minthorne Street\, Staten Island\, 10301\, United States
CATEGORIES:Events
ATTACH;FMTTYPE=image/jpeg:https://olmstedbeilhouse.org/wp-content/uploads/2026/01/Cullen-House-small--scaled.jpg
END:VEVENT
BEGIN:VEVENT
DTSTART;TZID=America/New_York:20260218T190000
DTEND;TZID=America/New_York:20260218T210000
DTSTAMP:20260419T200919
CREATED:20260114T020624Z
LAST-MODIFIED:20260125T135217Z
UID:10000582-1771441200-1771448400@olmstedbeilhouse.org
SUMMARY:DEAR A!: A STATEN ISLAND LOVE STORY
DESCRIPTION:DEAR A!: A STATEN ISLAND LOVE STORY\n\n										Left: Letter by Frederick Jessen\, 1873 / Right: Frederick Jessen\, 1873\, courtesy of Tina Kaasmann-Dunn\nDATEWEDNESDAY\, FEBRUARY 18\, 2026\, 7:00 PMLOCATIONFLAGSHIP BREWERY »40 Minthorne Street\, Staten Island\, NY 10301 \nDESCRIPTION Artist and historian Giuseppe Settinieri will take attendees on a trip back to 1870s Staten Island to learn about the courtship of Danish immigrant Frederick Jessen and Travis resident Auguste Korner. Their story will be told through Frederick’s love letters\, which were found in Travis 50 years ago. This is the first time Frederick’s letters will be shared with the public. \nAmple parking in lot across the street for Flagship and the adjoiningbusinesses. It’s mid-block\, down a ramp (easy to miss). No charge\, self-park. Short .7 mile walk from ferry\, and directly across from Tompkinsville Train Station. \nREGISTEREmail: gsettini@gmail.com » \nPlease arrive 10 minutes before the start of the program. \nTHIS IS A FREE EVENT \nDonations to Friends of Olmsted-Beil House are appreciated. \n					\n									Support FOBH
URL:https://olmstedbeilhouse.org/event/dear-a-a-staten-island-love-story/
LOCATION:Flagship Brewery\, 40 Minthorne Street\, Staten Island\, 10301\, United States
CATEGORIES:Events
ATTACH;FMTTYPE=image/jpeg:https://olmstedbeilhouse.org/wp-content/uploads/2026/01/Dear-A-Image-3.jpg
END:VEVENT
BEGIN:VEVENT
DTSTART;TZID=America/New_York:20260121T190000
DTEND;TZID=America/New_York:20260121T210000
DTSTAMP:20260419T200919
CREATED:20260104T111244Z
LAST-MODIFIED:20260107T191711Z
UID:10000580-1769022000-1769029200@olmstedbeilhouse.org
SUMMARY:Frederick Law Olmsted on Staten Island
DESCRIPTION:Image: Left: Atlas of S.I.\, 1860\, David Rumsey Collection / Right: Frederick Law Olmsted\, ca. 1860\, NYHS\n  \nFREE\, but donations to the Friends of Olmsted-Beil House are appreciated. \nSupport FOBH \nLOCATION: Flagship Brewery\, 40 Minthorne Street\, Staten Island\, NY 10301\nPARKING: Ample parking is available in the lot across the street from Flagship. It’s mid-block\, down a ramp. Self-parking\, no charge. \nSPEAKER: Patricia M. Salmon\, FOBH Historian and Curator of History\, retired\, the Staten Island Museum \nDiscover how Frederick Law Olmsted lived on Staten Island and launched a legacy that shaped American landscapes. We’ll discuss Fred Olmsted’s Eltingville residence\, his ideas on improving Staten Island\, and the mighty efforts that went into his landscape design for the Vanderbilt Mausoleum. \nREGISTRATION: To register\, text: 917-608-6437. \nPlease arrive ten minutes before the start of the program.
URL:https://olmstedbeilhouse.org/event/frederick-law-olmsted-on-staten-island/
LOCATION:Flagship Brewery\, 40 Minthorne Street\, Staten Island\, 10301\, United States
CATEGORIES:Events
ATTACH;FMTTYPE=image/jpeg:https://olmstedbeilhouse.org/wp-content/uploads/2026/01/FLO-Talk-Image-scaled.jpg
END:VEVENT
END:VCALENDAR