BEGIN:VCALENDAR
VERSION:2.0
PRODID:-//FRIENDS OF OLMSTED-BEIL HOUSE - ECPv6.15.20//NONSGML v1.0//EN
CALSCALE:GREGORIAN
METHOD:PUBLISH
X-ORIGINAL-URL:https://olmstedbeilhouse.org
X-WR-CALDESC:Events for FRIENDS OF OLMSTED-BEIL HOUSE
REFRESH-INTERVAL;VALUE=DURATION:PT1H
X-Robots-Tag:noindex
X-PUBLISHED-TTL:PT1H
BEGIN:VTIMEZONE
TZID:America/New_York
BEGIN:DAYLIGHT
TZOFFSETFROM:-0500
TZOFFSETTO:-0400
TZNAME:EDT
DTSTART:20240310T070000
END:DAYLIGHT
BEGIN:STANDARD
TZOFFSETFROM:-0400
TZOFFSETTO:-0500
TZNAME:EST
DTSTART:20241103T060000
END:STANDARD
BEGIN:DAYLIGHT
TZOFFSETFROM:-0500
TZOFFSETTO:-0400
TZNAME:EDT
DTSTART:20250309T070000
END:DAYLIGHT
BEGIN:STANDARD
TZOFFSETFROM:-0400
TZOFFSETTO:-0500
TZNAME:EST
DTSTART:20251102T060000
END:STANDARD
BEGIN:DAYLIGHT
TZOFFSETFROM:-0500
TZOFFSETTO:-0400
TZNAME:EDT
DTSTART:20260308T070000
END:DAYLIGHT
BEGIN:STANDARD
TZOFFSETFROM:-0400
TZOFFSETTO:-0500
TZNAME:EST
DTSTART:20261101T060000
END:STANDARD
END:VTIMEZONE
BEGIN:VEVENT
DTSTART;TZID=America/New_York:20250517T100000
DTEND;TZID=America/New_York:20250517T140000
DTSTAMP:20260419T220443
CREATED:20250404T011026Z
LAST-MODIFIED:20260106T023454Z
UID:10000572-1747476000-1747490400@olmstedbeilhouse.org
SUMMARY:Partnerships for Parks Presents: It's My Park at Olmsted-Beil House Park
DESCRIPTION:Join Partnerships for Parks and Friends of Olmsted-Beil House for an It’s My Park Project to beautify Olmsted-Beil House Park. \nSaturday May 17\, 2025 10 am – 2 pm \nLocation: Olmsted-Beil House Park\, 4515 Hylan Blvd\, Eltingville\, Staten Island 10312 \nParking is available on neighboring streets including Hales Avenue and Woods of Arden \nContact stefanie.gutierrez@parks.nyc.org \nMore info Partnerships for Parks \n 
URL:https://olmstedbeilhouse.org/event/partnerships-for-parks-presents-its-my-park-at-olmsted-beil-house-park/
LOCATION:Olmsted-Beil House Park\, 4515 Hylan Blvd.\, Staten Island\, NY\, 10312\, United States
CATEGORIES:Events
ATTACH;FMTTYPE=image/png:https://olmstedbeilhouse.org/wp-content/uploads/2025/04/itsmypark426-e1744572246543.png
END:VEVENT
END:VCALENDAR