BEGIN:VCALENDAR
VERSION:2.0
PRODID:-//FRIENDS OF OLMSTED-BEIL HOUSE - ECPv6.15.20//NONSGML v1.0//EN
CALSCALE:GREGORIAN
METHOD:PUBLISH
X-ORIGINAL-URL:https://olmstedbeilhouse.org
X-WR-CALDESC:Events for FRIENDS OF OLMSTED-BEIL HOUSE
REFRESH-INTERVAL;VALUE=DURATION:PT1H
X-Robots-Tag:noindex
X-PUBLISHED-TTL:PT1H
BEGIN:VTIMEZONE
TZID:America/New_York
BEGIN:DAYLIGHT
TZOFFSETFROM:-0500
TZOFFSETTO:-0400
TZNAME:EDT
DTSTART:20230312T070000
END:DAYLIGHT
BEGIN:STANDARD
TZOFFSETFROM:-0400
TZOFFSETTO:-0500
TZNAME:EST
DTSTART:20231105T060000
END:STANDARD
BEGIN:DAYLIGHT
TZOFFSETFROM:-0500
TZOFFSETTO:-0400
TZNAME:EDT
DTSTART:20240310T070000
END:DAYLIGHT
BEGIN:STANDARD
TZOFFSETFROM:-0400
TZOFFSETTO:-0500
TZNAME:EST
DTSTART:20241103T060000
END:STANDARD
BEGIN:DAYLIGHT
TZOFFSETFROM:-0500
TZOFFSETTO:-0400
TZNAME:EDT
DTSTART:20250309T070000
END:DAYLIGHT
BEGIN:STANDARD
TZOFFSETFROM:-0400
TZOFFSETTO:-0500
TZNAME:EST
DTSTART:20251102T060000
END:STANDARD
BEGIN:DAYLIGHT
TZOFFSETFROM:-0500
TZOFFSETTO:-0400
TZNAME:EDT
DTSTART:20260308T070000
END:DAYLIGHT
BEGIN:STANDARD
TZOFFSETFROM:-0400
TZOFFSETTO:-0500
TZNAME:EST
DTSTART:20261101T060000
END:STANDARD
END:VTIMEZONE
BEGIN:VEVENT
DTSTART;TZID=America/New_York:20250322T130000
DTEND;TZID=America/New_York:20250322T140000
DTSTAMP:20260419T195236
CREATED:20250107T130516Z
LAST-MODIFIED:20260106T022650Z
UID:10000566-1742648400-1742652000@olmstedbeilhouse.org
SUMMARY:OUT FROM THE SHADOWS: THE STORY OF HARRIET ERRINGTON
DESCRIPTION:Errington Beers Map 1874 NYPL\nIn this presentation FOBH Advisory Board member Giuseppe Settinieri will be discussing the life\nof Harriet Notcutt Errington. Miss Errington was a well-known teacher on Staten Island\nduring the 19th century and ran the popular “Miss Errington’s School” in Rosebank. Some\nof her students included Mary Perkins Olmsted (wife of landscape architect Frederick Law\nOlmsted) and Alice Austen. She also served as a governess and teacher to the Olmsted\nchildren. In addition\, Miss Errington was an amateur geologist and made an important\ndiscovery. Join FOBH and learn about Harriet Errington’s amazing story! \nSATURDAY\, MARCH 22\, 2025\, 1–2 PM \nTHE ALICE AUSTEN HOUSE MUSEUM\n2 Hylan Blvd\, Staten Island\, NY 10305 \nLight Refreshments Will Be Served \nTHIS IS A FREE EVENT\nRegistration is required.\n\nRegister on Eventbrite through the Alice Austen House Museum at the following link:\nhttps://www.eventbrite.com/e/out-from-the-shadows-the-story-of-harriet-errington-tickets-1107145224169 \nPrivate support is provided by City Parks Foundation and\nPartnerships for Parks through the NYC Green Fund.
URL:https://olmstedbeilhouse.org/event/out-from-the-shadows-the-story-of-harriet-errington-2/
LOCATION:THE ALICE AUSTEN HOUSE MUSEUM\, 2 Hylan Blvd\, Staten Island\, NY\, 10305\, United States
CATEGORIES:Events
ATTACH;FMTTYPE=image/jpeg:https://olmstedbeilhouse.org/wp-content/uploads/2025/01/Errington-Beers-Map-1874-NYPL.jpg
END:VEVENT
BEGIN:VEVENT
DTSTART;TZID=America/New_York:20250219T183000
DTEND;TZID=America/New_York:20250219T200000
DTSTAMP:20260419T195236
CREATED:20250107T132503Z
LAST-MODIFIED:20260106T022700Z
UID:10000567-1739989800-1739995200@olmstedbeilhouse.org
SUMMARY:THE OYSTERMEN OF STATEN ISLAND
DESCRIPTION:Menu featuring an oyster 1906 NYPL NR\n  \nThe waters off Staten Island once teemed with delicious oysters. One stretch of Richmond Terrace\, historically known as the Shore Road\, was even referred to as “Captain’s Row” owing to the many oyster-boat captains who purchased or built fine homes along the thoroughfare. In the late 1840s African-American oystermen from Snow Hill\, Maryland relocated to Sandy Ground. They were beginning a new life after enslavement laws in their home state threatened their freedom. This program analyzes the lives and livelihoods of these oystermen\, as well as the local oyster industry which provided their income. \nWEDNESDAY\, FEBRUARY 19\, 2025\, 6:30 PM\nPlease arrive ten minutes before the program starts. Light refreshments will\nbe served after the event. \nSPEAKER: Patricia M. Salmon\, FOBH Historian and a Curator of History\, retired\, from the Staten Island Museum. \nSAINT ALBAN’S CHURCH\n76 Saint Alban’s Place\, Staten Island\, NY 10312 \nTHIS IS A FREE EVENT\nRegistration is required.\nRegister by writing to salmonf@aol.com
URL:https://olmstedbeilhouse.org/event/the-oystermen-of-staten-island/
LOCATION:ST. ALBAN’S EPISCOPAL CHURCH\, 76 Saint Albans Place\, Eltingville Staten Island\, NY\, 10312\, United States
CATEGORIES:Events
ATTACH;FMTTYPE=image/jpeg:https://olmstedbeilhouse.org/wp-content/uploads/2025/01/Menu-featuring-an-oyster-1906-NYPL-NR-scaled.jpg
END:VEVENT
BEGIN:VEVENT
DTSTART;TZID=America/New_York:20250122T183000
DTEND;TZID=America/New_York:20250122T200000
DTSTAMP:20260419T195236
CREATED:20250107T133855Z
LAST-MODIFIED:20260106T023343Z
UID:10000568-1737570600-1737576000@olmstedbeilhouse.org
SUMMARY:HOUSES FROM THE 1600s ON STATEN ISLAND
DESCRIPTION:Billiou-Stillwell-Perine House\, NYPL\n  \nThere are relatively few buildings that literally have foundations from the 1600’s in New York City. Join us as we take a look at the resilient gems that have stood on Staten Island during the Revolution\, the Civil War\, the Great Depression\, and the onslaught of a growing population from the opening of the Verrazano-Narrows Bridge. This presentation will feature the Billiou-Stillwell-Perine House\, the Conference House\, the Manee-Seguine Homestead\, the Alice Austen House\, the Cubberly-Britton House\, the Olmsted-Beil House (of course!)\, and one historic treasure that was built circa 1700. \nWednesday\, January 22\, 2025\, 6:30 PM\nPlease arrive 10 minutes before the program starts. Light refreshments will\nbe served after the event. \nSPEAKER: Patricia M. Salmon\, FOBH Historian and a Curator of History\,\nretired\, from the Staten Island Museum. \nSaint Alban’s Church\n76 Saint Alban’s Place\, Eltingville\, Staten Island\, NY 10312 \nThis Is A Free Event\nRegistration is required. Register by writing to salmonf@aol.com
URL:https://olmstedbeilhouse.org/event/houses-from-the-1600s-on-staten-island/
LOCATION:ST. ALBAN’S EPISCOPAL CHURCH\, 76 Saint Albans Place\, Eltingville Staten Island\, NY\, 10312\, United States
CATEGORIES:Events
ATTACH;FMTTYPE=image/jpeg:https://olmstedbeilhouse.org/wp-content/uploads/2025/01/Billiou-Stillwell-Perine-House-NYPL.jpg
END:VEVENT
BEGIN:VEVENT
DTSTART;TZID=America/New_York:20250108T183000
DTEND;TZID=America/New_York:20250108T200000
DTSTAMP:20260419T195236
CREATED:20250107T040848Z
LAST-MODIFIED:20260106T023508Z
UID:10000565-1736361000-1736366400@olmstedbeilhouse.org
SUMMARY:The Staten Island Ferry: A History
DESCRIPTION:Ferries to and from Staten Island have existed for thousands of years. As the Island evolved\, and its transportation system became more elaborate\, the ferries that operated also changed. We will discuss more than 400 years of Staten Island ferry service\, including the entrepreneurs involved\, the ferryboats themselves\, and the landings that existed all around this once-isolated island. Take a ride through time! \nWednesday\, January 8\, 2025\, 6:30 PM.\nPlease arrive ten minutes before the start of the program. \nSaint Alban’s Church\, 76 Saint Alban’s Place\, Eltingville\, Staten Island\, NY 10312 \nFree\, but donations to Friends of Olmsted-Beil House are always appreciated.  More information about making a donation. \nRegistration is required.\nRegister by writing to salmonf@aol.com \nSouth Ferry 1900 Detroit Publishing c1900 LOC\n 
URL:https://olmstedbeilhouse.org/event/the-staten-island-ferry-a-history/
LOCATION:ST. ALBAN’S EPISCOPAL CHURCH\, 76 Saint Albans Place\, Eltingville Staten Island\, NY\, 10312\, United States
CATEGORIES:Events
ATTACH;FMTTYPE=image/jpeg:https://olmstedbeilhouse.org/wp-content/uploads/2025/03/Launching-of-the-Richmond-Boro-Class-Ferryboat-postcard.-NYPL.jpeg
END:VEVENT
BEGIN:VEVENT
DTSTART;TZID=America/New_York:20241026T130000
DTEND;TZID=America/New_York:20241026T140000
DTSTAMP:20260419T195236
CREATED:20240923T012826Z
LAST-MODIFIED:20260106T023354Z
UID:10000561-1729947600-1729951200@olmstedbeilhouse.org
SUMMARY:THE RENTERS OF THE OLMSTED-BEIL HOUSE
DESCRIPTION:Image: Olmsted-Beil House\, circa 1900s. Staten Island Historical Society\n  \nIn this lecture artist and historian Giuseppe Settinieri will discuss the various renters of the Olmsted-Beil House and property. He will begin by discussing the individuals who rented the property during Olmsted’s ownership and end with the family who rented the house until 1940. This is a chance to learn about some of the lesser-known occupants of the Olmsted-Beil House.\nSPEAKER\nGiuseppe Settinieri \nSATURDAY\, OCTOBER 26\, 2024\, 1 – 2 PM \nCONFERENCE HOUSE PARK VISITORS CENTER\n298 Satterlee Street\, Staten Island\, NY 10307 \nTHIS IS A FREE EVENT\nRegistration is required.\nTo register\, write to gsettini@gmail.com \n  \nPrivate support is provided by the City Parks Foundation and Partnerships for Parks through the NYC Green Fund.
URL:https://olmstedbeilhouse.org/event/the-renters-of-olmsted-beil-house/
LOCATION:Conference House Visitors Center\, 298 Satterlee Street\, Staten Island\, NY\, 10307\, United States
CATEGORIES:Events
ATTACH;FMTTYPE=image/jpeg:https://olmstedbeilhouse.org/wp-content/uploads/2024/09/Image-of-OBH_for-Oct-26th-event.jpg
END:VEVENT
BEGIN:VEVENT
DTSTART;TZID=America/New_York:20241020T130000
DTEND;TZID=America/New_York:20241020T143000
DTSTAMP:20260419T195236
CREATED:20240923T010501Z
LAST-MODIFIED:20260106T023406Z
UID:10000559-1729429200-1729434600@olmstedbeilhouse.org
SUMMARY:STATEN ISLAND’S FARMING LEGACY
DESCRIPTION:Image: Farm on Richmond Hill Road\, 1937\, Percy Loomis Sperr\, NYPL\n  \nWhen seventeenth century European settlers arrived\, they had difficulty planting and growing in unfamiliar territory. Fortunately\, the native Lenape offered assistance. The successful agricultural community that resulted lasted until the 1950’s. Gentlemen farmers\, including Frederick Law Olmsted and Dr. Samuel T. Akerly\, arrived in the nineteenth century. They made significant contributions to successfully tilling the earth. Their farming traditions would be added to and complemented by the growing techniques of immigrant Italians and Greeks at the turn of the twentieth century. Discover our agricultural ancestors and how they lived off of the land. \nSPEAKER\nPatricia M. Salmon\, FOBH Historian and a Curator of History\, retired\,\nfrom the Staten Island Museum \nSUNDAY\, OCTOBER 20\, 2024\, 1:00-2:30 PM \nST. ALBAN’S EPISCOPAL CHURCH\n76 St Albans Pl\, Staten Island\, NY 10312 \nParking is available on site. \nTHIS IS A FREE EVENT\nRegistration is required.\nTo register\, write to salmonf@aol.com
URL:https://olmstedbeilhouse.org/event/staten-islands-farming-legacy/
LOCATION:ST. ALBAN’S EPISCOPAL CHURCH\, 76 Saint Albans Place\, Eltingville Staten Island\, NY\, 10312\, United States
CATEGORIES:Events
ATTACH;FMTTYPE=image/jpeg:https://olmstedbeilhouse.org/wp-content/uploads/2024/09/Image-of-Farm-Richmond-Hill-Rd-for-Oct.-20th-talk.jpg
END:VEVENT
BEGIN:VEVENT
DTSTART;TZID=America/New_York:20240917T130000
DTEND;TZID=America/New_York:20240917T150000
DTSTAMP:20260419T195236
CREATED:20240726T024501Z
LAST-MODIFIED:20260106T023523Z
UID:10000557-1726578000-1726585200@olmstedbeilhouse.org
SUMMARY:Nicotra Grown: Organic Rooftop Farm Lunch and Tour
DESCRIPTION:Lunch followed by a private art and farm tour of Nicotra Grown: Organic Rooftop Farm. This farm is a 40\,000-square foot “organic urban agricultural project stewarded by Lois & Richard Nicotra in collaboration with Brooklyn Grange on the roof of The Nicotra Group’s Corporate Commons Three\, located on Staten Island\, New York.” \nWHERE:\nMeet in Pienza Pizza Cafe\, 1441 South Avenue (Corporate Commons Three)\, Staten Island\, NY 10314. Please look for the red awning to spot the entrance to the café. \nWHEN: Tuesday\, September 17\, 2024\, 1-3:00 PM\nRain or Shine\nLunch begins at 1:00 PM sharp followed immediately after by farm tour at 1:45 PM sharp. The tour will last 30-40 minutes.\nPlease be sure to arrive for lunch no later than 1:00 PM. We cannot delay the tour\, as it is on a firm schedule with The Nicotra Group. \n1441 South Avenue\, Staten Island\, NY 10314 \nFEE: $20 Registration Fee\n(includes lunch\, tip\, taxes\, plus complimentary farm tour).\nPurchase of lunch is required to go on the tour. \nPayment can be made by Paypal but if you don’t have a Paypal account\, you can pay with a credit or debit card by clicking the “Pay with Credit or Debit Card” button instead of logging into your Paypal account. \nRegister here »
URL:https://olmstedbeilhouse.org/event/nicotra-grown-organic-rooftop-farm-lunch-and-tour/
LOCATION:The Nicotra Group’s Corporate Commons Three\, 1441 South Avenue (Corporate Commons Three)\, Staten Island\, NY\, 10314\, United States
CATEGORIES:Events
ATTACH;FMTTYPE=image/png:https://olmstedbeilhouse.org/wp-content/uploads/2024/07/NicotraFarmTour.png
END:VEVENT
BEGIN:VEVENT
DTSTART;TZID=America/New_York:20240914T130000
DTEND;TZID=America/New_York:20240914T140000
DTSTAMP:20260419T195236
CREATED:20240817T104150Z
LAST-MODIFIED:20260106T023422Z
UID:10000558-1726318800-1726322400@olmstedbeilhouse.org
SUMMARY:The Animals of Tosomock Farm
DESCRIPTION:Detail of “American Farm Yard\, Evening” by Fanny Palmer\, Published by N. Currier\, Library of Congress\n  \nIn this lecture\, artist and public historian Giuseppe Settinieri will discuss the animals that Frederick Law Olmsted owned while he lived on his Staten Island farm\, called “Tosomock Farm\,” from 1848 to 1855. Learn about the types of animals that lived on the farm and what they were used for. \nIn addition\, Giuseppe will discuss Olmsted’s pets. Learn their names and listen to stories about them taken from Olmsted’s letters. \nSPEAKER\nGiuseppe Settinieri \nSATURDAY\, SEPTEMBER 14\, 2024\, 1 – 2 PM \nCONFERENCE HOUSE PARK VISITORS CENTER\n298 Satterlee Street\, Staten Island\, NY 10307 \nTHIS IS A FREE EVENT\nRegistration is required.\nTo register\, write to gsettini@gmail.com \n  \nPrivate support is provided by the City Parks Foundation and Partnerships for Parks through the NYC Green Fund.
URL:https://olmstedbeilhouse.org/event/the-animals-of-tosomock-farm/
LOCATION:Conference House Visitors Center\, 298 Satterlee Street\, Staten Island\, NY\, 10307\, United States
CATEGORIES:Events
ATTACH;FMTTYPE=image/jpeg:https://olmstedbeilhouse.org/wp-content/uploads/2024/08/Animals-of-Tosomock-Farm-Image.jpg
END:VEVENT
BEGIN:VEVENT
DTSTART;TZID=America/New_York:20240824T140000
DTEND;TZID=America/New_York:20240824T153000
DTSTAMP:20260419T195236
CREATED:20240622T102930Z
LAST-MODIFIED:20240622T105707Z
UID:10000556-1724508000-1724513400@olmstedbeilhouse.org
SUMMARY:Powerful Women of Staten Island's Past
DESCRIPTION:Left: Botanist Elizabeth Britton\, 1886. Right: Detail of Map of Staten Island\, 1889\, NYPL\n  \nJoin us as we honor and celebrate the contributions of several amazing women who impacted Staten Island and\, in many cases\, beyond. These women met challenges but persevered and accomplished their goals. We will examine the influential lives of Eva Bechtel\, Audre Lorde\, Elizabeth Britton\, Alice Austen\, Mary Jane Irwin O’Donovan Rossa\, Catherine “Mac” O’Callaghan\, Dorothy Day\, and many others. \nSPEAKER\nPatricia M. Salmon\, FOBH Historian and a Curator of History\, retired\, from the Staten Island Museum \nSATURDAY\, AUGUST 24\, 2024\, 2-3:30 PM\n(Rain Date: Wednesday\, August 28th at 6:30PM)\nPlease arrive ten minutes before the program starts.  Light refreshments will be served after the event. \nTHE ALICE AUSTEN HOUSE MUSEUM\n2 Hylan Blvd\, Staten Island\, NY 10305 \nTHIS IS A FREE EVENT\nRegistration is required.\nTo register\, please go to this link:  Powerful Women
URL:https://olmstedbeilhouse.org/event/powerful-women-of-staten-islands-past/
LOCATION:THE ALICE AUSTEN HOUSE MUSEUM\, 2 Hylan Blvd\, Staten Island\, NY\, 10305\, United States
CATEGORIES:Events
ATTACH;FMTTYPE=image/jpeg:https://olmstedbeilhouse.org/wp-content/uploads/2024/06/Women-Talk-Image.jpg
END:VEVENT
BEGIN:VEVENT
DTSTART;TZID=America/New_York:20240615T140000
DTEND;TZID=America/New_York:20240615T140000
DTSTAMP:20260419T195236
CREATED:20240517T103825Z
LAST-MODIFIED:20240517T114330Z
UID:10000555-1718460000-1718460000@olmstedbeilhouse.org
SUMMARY:Meet the Poillons: the "First Family" of the Olmsted-Beil House
DESCRIPTION:FOBH Advisor and artist-historian Giuseppe Settinieri will discuss the Poillon family. The Poillons were the first family to occupy the Olmsted-Beil House in the 1600s and are believed to have owned it for almost a century. Giuseppe will explore the family’s history from their beginnings in France to 19th century New York. Come and learn about the Poillon occupation of the Olmsted-Beil House and the family’s amazing contributions to Staten Island and New York City history! \nSATURDAY\, JUNE 15\, 2024\, 2-3 PM\nLight refreshments will be served after the event. \nCONFERENCE HOUSE PARK VISITORS CENTER\n298 Satterlee Street\, Staten Island\, NY 10307 \nTHIS IS A FREE EVENT\nRegistration is required.\nTo register\, write to gsettini@gmail.com
URL:https://olmstedbeilhouse.org/event/meet-the-poillons-the-first-family-of-the-olmsted-beil-house/
LOCATION:Conference House Visitors Center\, 298 Satterlee Street\, Staten Island\, NY\, 10307\, United States
CATEGORIES:Events
ATTACH;FMTTYPE=image/jpeg:https://olmstedbeilhouse.org/wp-content/uploads/2024/05/Poillon-Image.jpg
END:VEVENT
BEGIN:VEVENT
DTSTART;TZID=America/New_York:20240601T130000
DTEND;TZID=America/New_York:20240601T150000
DTSTAMP:20260419T195236
CREATED:20240513T024909Z
LAST-MODIFIED:20240528T222859Z
UID:10000554-1717246800-1717254000@olmstedbeilhouse.org
SUMMARY:Frederick Law Olmsted's Green Family Day
DESCRIPTION:Join us for an afternoon of nature-inspired arts and craft activities\, games\, and more… \nWHERE: THE LAWN OF OLMSTED-BEIL HOUSE PARK\n4515 Hylan Blvd\, Staten Island\, NY 10312 \nWHEN: SATURDAY\, JUNE 1\, 2024\,\n1 PM TO 3 PM\nRain Date: Sunday\, June 2\, 2024\,\n1 PM to 3 PM \n\nThis event will feature activities for children. \nAll children between the ages of 3 and 14 can participate.\nThere is no fee\, but all participants need to register.\nThe parents\, friends and siblings who accompany these participants do not need to register.\n\nCRAFTS: Nature Wands\, Paper Caterpillar\, Nature Crowns\, Leaf Rubbings\, Coffee Filter Butterfly \nGAMES: Giant Bubbles\, Recycling Relay Race\, Scavenger Hunt\, Hot Potato\, Hula Hoops \nFREE SNACKS \nRegistration: Register here »
URL:https://olmstedbeilhouse.org/event/frederick-law-olmsteds-green-family-day/
LOCATION:Olmsted-Beil House Park\, 4515 Hylan Blvd.\, Staten Island\, NY\, 10312\, United States
CATEGORIES:Events
ATTACH;FMTTYPE=image/jpeg:https://olmstedbeilhouse.org/wp-content/uploads/2023/06/Pine-cone-crafts_P.-Tramontano.jpg
END:VEVENT
BEGIN:VEVENT
DTSTART;TZID=America/New_York:20240504T130000
DTEND;TZID=America/New_York:20240504T140000
DTSTAMP:20260419T195236
CREATED:20240327T104614Z
LAST-MODIFIED:20240327T105025Z
UID:10000553-1714827600-1714831200@olmstedbeilhouse.org
SUMMARY:Out from the Shadows: The Story of Harriet Errington
DESCRIPTION:In this presentation advisory board member Giuseppe Settinieri will be discussing the life of Harriet Notcutt Errington. Miss Errington was a well-known teacher on Staten Island during the 19th century and ran the popular “Miss Errington’s School” in Rosebank. Some of her students included Mary Perkins Olmsted (wife of landscape architect Frederick Law Olmsted) and Alice Austen. She also served as a governess and teacher to the Olmsted children. In addition\, Miss Errington was an amateur geologist and made an important discovery. Join FOBH and learn about Harriet Errington’s amazing story! \n\nTHE ALICE AUSTEN HOUSE MUSEUM\n2 Hylan Blvd\, Staten Island\, NY 10305 \n\nTHIS IS A FREE EVENT \n\nLight refreshments will be served\n\nRegistration is required.\n\nTo register\, send an email to gsettini@gmail.com
URL:https://olmstedbeilhouse.org/event/out-from-the-shadows-the-story-of-harriet-errington/
LOCATION:THE ALICE AUSTEN HOUSE MUSEUM\, 2 Hylan Blvd\, Staten Island\, NY\, 10305\, United States
CATEGORIES:Events
END:VEVENT
BEGIN:VEVENT
DTSTART;TZID=America/New_York:20240323T140000
DTEND;TZID=America/New_York:20240323T150000
DTSTAMP:20260419T195236
CREATED:20240211T120306Z
LAST-MODIFIED:20240211T145313Z
UID:10000552-1711202400-1711206000@olmstedbeilhouse.org
SUMMARY:Presentation on the Life of Mary Olmsted
DESCRIPTION:Mary Olmsted 1863\n  \nFOBH Advisor and artist-historian Giuseppe Settinieri will present\non the life of Staten Islander Mary Cleveland Olmsted.\nMary is mainly known as the wife of journalist\, social critic\, and\nCentral Park co-designer Frederick Law Olmsted.\nWe will learn more about this amazing and prominent woman\,\nincluding her role as manager of Tosomock Farm! \nSATURDAY\, MARCH 23\, 2024\, 2-3 PM\nLight refreshments will be served after the event. \nCONFERENCE HOUSE PARK VISITORS CENTER\n298 Satterlee Street\, Staten Island\, NY 10307 \nTHIS IS A FREE EVENT\nRegistration is required. \nTo register\, write to gsettini@gmail.com
URL:https://olmstedbeilhouse.org/event/the-life-of-mary-olmsted-march-23-2024/
LOCATION:Conference House Visitors Center\, 298 Satterlee Street\, Staten Island\, NY\, 10307\, United States
CATEGORIES:Events
END:VEVENT
END:VCALENDAR